BEGIN:VCALENDAR
VERSION:2.0
PRODID:-//Mount Auburn Cemetery - ECPv6.0.2//NONSGML v1.0//EN
CALSCALE:GREGORIAN
METHOD:PUBLISH
X-WR-CALNAME:Mount Auburn Cemetery
X-ORIGINAL-URL:https://mountauburn.org
X-WR-CALDESC:Events for Mount Auburn Cemetery
REFRESH-INTERVAL;VALUE=DURATION:PT1H
X-Robots-Tag:noindex
X-PUBLISHED-TTL:PT1H
BEGIN:VTIMEZONE
TZID:America/New_York
BEGIN:DAYLIGHT
TZOFFSETFROM:-0500
TZOFFSETTO:-0400
TZNAME:EDT
DTSTART:20260308T070000
END:DAYLIGHT
BEGIN:STANDARD
TZOFFSETFROM:-0400
TZOFFSETTO:-0500
TZNAME:EST
DTSTART:20261101T060000
END:STANDARD
END:VTIMEZONE
BEGIN:VEVENT
DTSTART;TZID=America/New_York:20260423T064500
DTEND;TZID=America/New_York:20260423T081500
DTSTAMP:20260423T080143
CREATED:20260401T174523Z
LAST-MODIFIED:20260401T174925Z
UID:10000545-1776926700-1776932100@mountauburn.org
SUMMARY:Spring Migrants
DESCRIPTION:They’re back in town! \n\n\n\n\nJoin us for a spring bird walk searching for both migrant and breeding birds. Bring your binoculars and field guide. All skill levels welcome. \nRegistration Required. \nTuesday Walks with Jason Barcus \n\nApril 28 | 6:45 AM\nMay 05 | 6:45 AM\nMay 12 | 6:45 AM\nMay 19 | 6:45 AM\n\nJason Barcus\, Brookline Bird Club trip leader\, wildlife photographer \nThursday Walks with Jeremiah Trimble: \n\nApril 16 | 6:45 AM\nApril 23 | 6:45 AM\nApril 30 | 6:45 AM\nMay 07 | 6:45 AM\nMay 14 | 6:45 AM\nMay 20 | 6:45 AM *Exception: Wednesday Date\n\nJeremiah Trimble\, Curatorial Associate\, Ornithology\, Museum of Comparative Zoology\, Harvard University \n\n\n\n\n\n\n  \nREGISTER HERE>>\n  \nExperience a deeper connection to Mount Auburn Cemetery with free or discounted access to all our public programs and special events by joining the Friends of Mount Auburn. Our robust roster of programs each year is made possible by the generous support of our donors and in part by theMassachusetts Cultural Council. \nFor inquiries about accessibility\, to request an accommodation\, or if you have any questions about your membership\, please contact friends@mountauburn.org. \nMount Auburn is proud to participate in MCC’s Card to Culture Program. Click here to learn more. \nRefund Policy: \nRefunds and exchanges for events at Mount Auburn Cemetery are available up to 5 business days prior to the event.* Cancellations made after this deadline are not eligible for a refund and the order amount will be donated to support future programs and initiatives. \nIf Mount Auburn Cemetery decides to cancel an event\, all ticket holders will be notified and automatically refunded. \n*This policy excludes special events. Refund policies for special events will be listed directly on their event page. Exchanges are only applicable to events with multiple occurrences.
URL:https://mountauburn.org/event/spring-migrants/2026-04-23/
CATEGORIES:Nature,Wildlife
ATTACH;FMTTYPE=image/jpeg:https://mountauburn.org/app/uploads/2024/04/BaltimoreOriole_AlParker_resize-e1713894570100.jpg
END:VEVENT
END:VCALENDAR